BEGIN:VCALENDAR
VERSION:2.0
PRODID:-//Catania Jazz - ECPv6.9.0//NONSGML v1.0//EN
CALSCALE:GREGORIAN
METHOD:PUBLISH
X-WR-CALNAME:Catania Jazz
X-ORIGINAL-URL:https://www.cataniajazz.com
X-WR-CALDESC:Eventi per Catania Jazz
REFRESH-INTERVAL;VALUE=DURATION:PT1H
X-Robots-Tag:noindex
X-PUBLISHED-TTL:PT1H
BEGIN:VTIMEZONE
TZID:UTC
BEGIN:STANDARD
TZOFFSETFROM:+0000
TZOFFSETTO:+0000
TZNAME:UTC
DTSTART:20170101T000000
END:STANDARD
END:VTIMEZONE
BEGIN:VEVENT
DTSTART;TZID=UTC:20190415T210000
DTEND;TZID=UTC:20190418T170000
DTSTAMP:20260425T113144
CREATED:20180728T114707Z
LAST-MODIFIED:20180728T114942Z
UID:2043-1555362000-1555606800@www.cataniajazz.com
SUMMARY:Rosalba Bentivoglio Quintet
DESCRIPTION:
URL:https://www.cataniajazz.com/concerto-jazz-a-catania/rosalba-bentivoglio-quintet/
LOCATION:MA\, via Vela 6\, Catania
CATEGORIES:Programma,Stagione MA
ATTACH;FMTTYPE=image/jpeg:https://www.cataniajazz.com/wp-content/uploads/Rosalba-Bentivoglio-Quintet-catania.jpg
END:VEVENT
BEGIN:VEVENT
DTSTART;TZID=UTC:20190403T210000
DTEND;TZID=UTC:20190403T230000
DTSTAMP:20260425T113144
CREATED:20180728T113838Z
LAST-MODIFIED:20180728T113838Z
UID:2033-1554325200-1554332400@www.cataniajazz.com
SUMMARY:Nils Petter - Molvaer Quartet
DESCRIPTION:
URL:https://www.cataniajazz.com/concerto-jazz-a-catania/nils-petter-molvaer-quartet/
LOCATION:Teatro ABC\, via Pietro Mascagni 92\, Catania
CATEGORIES:Programma,XXXVI Stagione
ATTACH;FMTTYPE=image/jpeg:https://www.cataniajazz.com/wp-content/uploads/Nils-Petter-Molvaer-Quartet-catania.jpg
END:VEVENT
BEGIN:VEVENT
DTSTART;TZID=UTC:20190314T210000
DTEND;TZID=UTC:20190314T230000
DTSTAMP:20260425T113144
CREATED:20180728T113710Z
LAST-MODIFIED:20180728T113710Z
UID:2031-1552597200-1552604400@www.cataniajazz.com
SUMMARY:Danilo Perez - John Patitucci - Terri Lyne Carrington
DESCRIPTION:
URL:https://www.cataniajazz.com/concerto-jazz-a-catania/danilo-perez-john-patitucci-terri-lyne-carrington/
LOCATION:Teatro ABC\, via Pietro Mascagni 92\, Catania
CATEGORIES:Programma,XXXVI Stagione
ATTACH;FMTTYPE=image/jpeg:https://www.cataniajazz.com/wp-content/uploads/perez-patitucci-carrington-catania.jpg
END:VEVENT
BEGIN:VEVENT
DTSTART;TZID=UTC:20190307T210000
DTEND;TZID=UTC:20190307T230000
DTSTAMP:20260425T113144
CREATED:20180728T113434Z
LAST-MODIFIED:20190302T131046Z
UID:2029-1551992400-1551999600@www.cataniajazz.com
SUMMARY:Kristin Asbjiornsen Trio
DESCRIPTION:
URL:https://www.cataniajazz.com/concerto-jazz-a-catania/kristin-asbjornsen-trio/
LOCATION:Teatro ABC\, via Pietro Mascagni 92\, Catania
CATEGORIES:Programma,XXXVI Stagione
ATTACH;FMTTYPE=image/jpeg:https://www.cataniajazz.com/wp-content/uploads/Kristin-Asbjørnsen.jpg
END:VEVENT
BEGIN:VEVENT
DTSTART;TZID=UTC:20190225T210000
DTEND;TZID=UTC:20190228T170000
DTSTAMP:20260425T113144
CREATED:20180728T114621Z
LAST-MODIFIED:20180728T114621Z
UID:2041-1551128400-1551373200@www.cataniajazz.com
SUMMARY:Stefania Tallini - Cettina Donato
DESCRIPTION:
URL:https://www.cataniajazz.com/concerto-jazz-a-catania/stefania-tallini-cettina-donato/
LOCATION:MA\, via Vela 6\, Catania
CATEGORIES:Programma,Stagione MA
ATTACH;FMTTYPE=image/jpeg:https://www.cataniajazz.com/wp-content/uploads/Stefania-Tallini-Cettina-Donato-catania.jpg
END:VEVENT
BEGIN:VEVENT
DTSTART;TZID=UTC:20190211T210000
DTEND;TZID=UTC:20190214T170000
DTSTAMP:20260425T113144
CREATED:20180728T114516Z
LAST-MODIFIED:20180728T114516Z
UID:2039-1549918800-1550163600@www.cataniajazz.com
SUMMARY:Steinar Raknes - Tore Brunborg
DESCRIPTION:
URL:https://www.cataniajazz.com/concerto-jazz-a-catania/steinar-raknes-tore-brunborg/
LOCATION:MA\, via Vela 6\, Catania
CATEGORIES:Programma,Stagione MA
ATTACH;FMTTYPE=image/jpeg:https://www.cataniajazz.com/wp-content/uploads/Steinar-Raknes-Tore-Brunborg-catania.jpeg
END:VEVENT
BEGIN:VEVENT
DTSTART;TZID=UTC:20190114T210000
DTEND;TZID=UTC:20190117T170000
DTSTAMP:20260425T113144
CREATED:20180728T114412Z
LAST-MODIFIED:20180728T125610Z
UID:2037-1547499600-1547744400@www.cataniajazz.com
SUMMARY:Michael Formanek - Tim Berne - Mary Halvorson
DESCRIPTION:
URL:https://www.cataniajazz.com/concerto-jazz-a-catania/michael-formanek-tim-berne-mary-halvorson/
LOCATION:MA\, via Vela 6\, Catania
CATEGORIES:Programma,Stagione MA
ATTACH;FMTTYPE=image/jpeg:https://www.cataniajazz.com/wp-content/uploads/Michael-Formanek-Tim-Berne-Mary-Halvorson-catania.jpg
END:VEVENT
BEGIN:VEVENT
DTSTART;TZID=UTC:20181206T210000
DTEND;TZID=UTC:20181206T230000
DTSTAMP:20260425T113144
CREATED:20180728T113257Z
LAST-MODIFIED:20180728T113257Z
UID:2027-1544130000-1544137200@www.cataniajazz.com
SUMMARY:Ray Gelato e The Giants
DESCRIPTION:
URL:https://www.cataniajazz.com/concerto-jazz-a-catania/ray-gelato-e-the-giants/
LOCATION:Teatro ABC\, via Pietro Mascagni 92\, Catania
CATEGORIES:Programma,XXXVI Stagione
ATTACH;FMTTYPE=image/jpeg:https://www.cataniajazz.com/wp-content/uploads/RayGelatoGiants-catania.jpg
END:VEVENT
BEGIN:VEVENT
DTSTART;TZID=UTC:20181123T210000
DTEND;TZID=UTC:20181123T230000
DTSTAMP:20260425T113144
CREATED:20180728T113138Z
LAST-MODIFIED:20180728T113138Z
UID:2025-1543006800-1543014000@www.cataniajazz.com
SUMMARY:Brian Blade - Scott Colley - Benjamin Koppel
DESCRIPTION:
URL:https://www.cataniajazz.com/concerto-jazz-a-catania/brian-blade-scott-colley-benjamin-koppel/
LOCATION:Teatro ABC\, via Pietro Mascagni 92\, Catania
CATEGORIES:Programma,XXXVI Stagione
ATTACH;FMTTYPE=image/jpeg:https://www.cataniajazz.com/wp-content/uploads/KoppelColleyBlade-catania.jpg
END:VEVENT
BEGIN:VEVENT
DTSTART;TZID=UTC:20181119T210000
DTEND;TZID=UTC:20181122T170000
DTSTAMP:20260425T113144
CREATED:20180728T114010Z
LAST-MODIFIED:20180728T125313Z
UID:2035-1542661200-1542906000@www.cataniajazz.com
SUMMARY:James Brandon Lewis trio special guest Anthony Pirog
DESCRIPTION:
URL:https://www.cataniajazz.com/concerto-jazz-a-catania/james-brandon-lewis-trio-special-guest-anthony-pirog/
LOCATION:MA\, via Vela 6\, Catania
CATEGORIES:Programma,Stagione MA
ATTACH;FMTTYPE=image/jpeg:https://www.cataniajazz.com/wp-content/uploads/James-Brandon-Lewis-trio-special-guest-Anthony-Pirog-catania.jpg
END:VEVENT
BEGIN:VEVENT
DTSTART;TZID=UTC:20181115T210000
DTEND;TZID=UTC:20181115T230000
DTSTAMP:20260425T113144
CREATED:20180728T112941Z
LAST-MODIFIED:20180728T112941Z
UID:2023-1542315600-1542322800@www.cataniajazz.com
SUMMARY:Mike Westbrook Uncommon Orchestra
DESCRIPTION:
URL:https://www.cataniajazz.com/concerto-jazz-a-catania/mike-westbrook-uncommon-orchestra/
LOCATION:Teatro ABC\, via Pietro Mascagni 92\, Catania
CATEGORIES:Programma,XXXVI Stagione
ATTACH;FMTTYPE=image/jpeg:https://www.cataniajazz.com/wp-content/uploads/mike-westbrook-catania.jpg
END:VEVENT
BEGIN:VEVENT
DTSTART;TZID=UTC:20180626T210000
DTEND;TZID=UTC:20180626T230000
DTSTAMP:20260425T113144
CREATED:20170901T092320Z
LAST-MODIFIED:20180624T130854Z
UID:1906-1530046800-1530054000@www.cataniajazz.com
SUMMARY:PAOLO ANGELI - ORIOL ROCA - Cortile Platamone
DESCRIPTION:
URL:https://www.cataniajazz.com/concerto-jazz-a-catania/paolo-angeli-oriol-roca/
LOCATION:MA\, via Vela 6\, Catania
CATEGORIES:Programma,Stagione MA
ATTACH;FMTTYPE=image/jpeg:https://www.cataniajazz.com/wp-content/uploads/PAOLO-ANGELI-001.jpg
END:VEVENT
BEGIN:VEVENT
DTSTART;TZID=UTC:20180417T210000
DTEND;TZID=UTC:20180419T230000
DTSTAMP:20260425T113144
CREATED:20170901T092748Z
LAST-MODIFIED:20170907T143300Z
UID:1908-1523998800-1524178800@www.cataniajazz.com
SUMMARY:TONINA
DESCRIPTION: 
URL:https://www.cataniajazz.com/concerto-jazz-a-catania/tonina/
LOCATION:MA\, via Vela 6\, Catania
CATEGORIES:Programma,Stagione MA
ATTACH;FMTTYPE=image/jpeg:https://www.cataniajazz.com/wp-content/uploads/MG_0041.PANTALLA.jpg
END:VEVENT
BEGIN:VEVENT
DTSTART;TZID=UTC:20180405T210000
DTEND;TZID=UTC:20180405T230000
DTSTAMP:20260425T113144
CREATED:20170901T093828Z
LAST-MODIFIED:20170907T142948Z
UID:1910-1522962000-1522969200@www.cataniajazz.com
SUMMARY:JAMES TAYLOR Quartet
DESCRIPTION:https://www.youtube.com/watch?v=zFrzzEqKug4 \n 
URL:https://www.cataniajazz.com/concerto-jazz-a-catania/james-taylor-quartet/
LOCATION:MA\, via Vela 6\, Catania
CATEGORIES:Fuori programma,Programma
ATTACH;FMTTYPE=image/jpeg:https://www.cataniajazz.com/wp-content/uploads/james-taylor-quartet-6.jpg
END:VEVENT
BEGIN:VEVENT
DTSTART;TZID=UTC:20180320T210000
DTEND;TZID=UTC:20180320T230000
DTSTAMP:20260425T113144
CREATED:20170831T213153Z
LAST-MODIFIED:20170907T111202Z
UID:1896-1521579600-1521586800@www.cataniajazz.com
SUMMARY:OREGON
DESCRIPTION:
URL:https://www.cataniajazz.com/concerto-jazz-a-catania/oregon/
LOCATION:Teatro ABC\, via Pietro Mascagni 92\, Catania
CATEGORIES:Programma,XXXV Stagione
ATTACH;FMTTYPE=image/jpeg:https://www.cataniajazz.com/wp-content/uploads/Oregon.jpg
END:VEVENT
BEGIN:VEVENT
DTSTART;TZID=UTC:20180313T210000
DTEND;TZID=UTC:20180314T230000
DTSTAMP:20260425T113144
CREATED:20170901T102630Z
LAST-MODIFIED:20180313T113805Z
UID:1919-1520974800-1521068400@www.cataniajazz.com
SUMMARY:CELINE RUDOLPH Quartet
DESCRIPTION:
URL:https://www.cataniajazz.com/concerto-jazz-a-catania/celine-rudolph-quartet/
LOCATION:MA\, via Vela 6\, Catania
CATEGORIES:Programma,Stagione Sangiorgi
ATTACH;FMTTYPE=image/jpeg:https://www.cataniajazz.com/wp-content/uploads/14729161_1300185606660801_6753432022499949926_n.jpg
END:VEVENT
BEGIN:VEVENT
DTSTART;TZID=UTC:20180310T210000
DTEND;TZID=UTC:20180310T230000
DTSTAMP:20260425T113144
CREATED:20170901T101601Z
LAST-MODIFIED:20180304T121650Z
UID:1918-1520715600-1520722800@www.cataniajazz.com
SUMMARY:MARC COPLAND Zenith Quartet
DESCRIPTION:
URL:https://www.cataniajazz.com/concerto-jazz-a-catania/marc-copland-zenith-quartet/
LOCATION:Teatro Odeon\, Via Filippo Corridoni\, 19\, Catania\, 95100
CATEGORIES:Programma,Stagione Sangiorgi
ATTACH;FMTTYPE=image/png:https://www.cataniajazz.com/wp-content/uploads/Marc-Copland.png
END:VEVENT
BEGIN:VEVENT
DTSTART;TZID=UTC:20180220T210000
DTEND;TZID=UTC:20180220T230000
DTSTAMP:20260425T113144
CREATED:20170831T200931Z
LAST-MODIFIED:20170901T105900Z
UID:1894-1519160400-1519167600@www.cataniajazz.com
SUMMARY:ANDY SHEPPARD & SJM BIG BAND
DESCRIPTION:
URL:https://www.cataniajazz.com/concerto-jazz-a-catania/andy-sheppard-sjm-big-band/
LOCATION:Teatro ABC\, via Pietro Mascagni 92\, Catania
CATEGORIES:Programma,XXXV Stagione
ATTACH;FMTTYPE=image/jpeg:https://www.cataniajazz.com/wp-content/uploads/Andy-Sheppard.jpg
END:VEVENT
BEGIN:VEVENT
DTSTART;TZID=UTC:20180212T210000
DTEND;TZID=UTC:20180214T230000
DTSTAMP:20260425T113144
CREATED:20170901T091706Z
LAST-MODIFIED:20180109T144949Z
UID:1905-1518469200-1518649200@www.cataniajazz.com
SUMMARY:MARIALY PACHECO – JOO KRAUS
DESCRIPTION:Attenzione\, il turno C sarà stavolta la prima serata (quindi il 12 febbraio).
URL:https://www.cataniajazz.com/concerto-jazz-a-catania/marialy-pacheco-joo-kraus/
LOCATION:MA\, via Vela 6\, Catania
CATEGORIES:Programma,Stagione MA
ATTACH;FMTTYPE=image/jpeg:https://www.cataniajazz.com/wp-content/uploads/Marialy_Pacheco_Duets_Press_05.jpg
END:VEVENT
BEGIN:VEVENT
DTSTART;TZID=UTC:20180208T210000
DTEND;TZID=UTC:20180209T230000
DTSTAMP:20260425T113144
CREATED:20170901T100439Z
LAST-MODIFIED:20180112T104418Z
UID:1917-1518123600-1518217200@www.cataniajazz.com
SUMMARY:KNEEBODY
DESCRIPTION: 
URL:https://www.cataniajazz.com/concerto-jazz-a-catania/kneebody/
LOCATION:Teatro Sangiorgi\, Via Antonino Di Sangiuliano\, 233 \, Catania\, 95131\, Italia
CATEGORIES:Programma,Stagione Sangiorgi
ATTACH;FMTTYPE=image/jpeg:https://www.cataniajazz.com/wp-content/uploads/Kneebody-e1504880589144.jpg
END:VEVENT
BEGIN:VEVENT
DTSTART;TZID=UTC:20180130T210000
DTEND;TZID=UTC:20180131T230000
DTSTAMP:20260425T113144
CREATED:20170901T091306Z
LAST-MODIFIED:20170907T100649Z
UID:1903-1517346000-1517439600@www.cataniajazz.com
SUMMARY:CARMEN SOUZA Crelogy Trio
DESCRIPTION: 
URL:https://www.cataniajazz.com/concerto-jazz-a-catania/carmen-souza-crelogy-trio/
LOCATION:MA\, via Vela 6\, Catania
CATEGORIES:Programma,Stagione MA
ATTACH;FMTTYPE=image/jpeg:https://www.cataniajazz.com/wp-content/uploads/IMG_5244_300dpi.jpg
END:VEVENT
BEGIN:VEVENT
DTSTART;TZID=UTC:20180123T210000
DTEND;TZID=UTC:20180123T230000
DTSTAMP:20260425T113144
CREATED:20170831T201442Z
LAST-MODIFIED:20170907T100454Z
UID:1895-1516741200-1516748400@www.cataniajazz.com
SUMMARY:SARAH McKENZIE
DESCRIPTION: 
URL:https://www.cataniajazz.com/concerto-jazz-a-catania/sarah-mckenzie/
LOCATION:Teatro ABC\, via Pietro Mascagni 92\, Catania
CATEGORIES:Programma,XXXV Stagione
ATTACH;FMTTYPE=image/jpeg:https://www.cataniajazz.com/wp-content/uploads/Sarah-McKenzie-2016-Copyright-Philippe-LEVY-STAB.jpg
END:VEVENT
BEGIN:VEVENT
DTSTART;TZID=UTC:20180116T210000
DTEND;TZID=UTC:20180118T230000
DTSTAMP:20260425T113144
CREATED:20170901T090921Z
LAST-MODIFIED:20180109T145242Z
UID:1901-1516136400-1516316400@www.cataniajazz.com
SUMMARY:BEN VAN GELDER Quartet
DESCRIPTION:
URL:https://www.cataniajazz.com/concerto-jazz-a-catania/ben-van-gelder-quartet/
LOCATION:MA\, via Vela 6\, Catania
CATEGORIES:Programma,Stagione MA
ATTACH;FMTTYPE=image/jpeg:https://www.cataniajazz.com/wp-content/uploads/21208823_500496663634346_1284051535_n.jpg
END:VEVENT
BEGIN:VEVENT
DTSTART;TZID=UTC:20171212T210000
DTEND;TZID=UTC:20171214T230000
DTSTAMP:20260425T113144
CREATED:20170901T085914Z
LAST-MODIFIED:20170907T094450Z
UID:1900-1513112400-1513292400@www.cataniajazz.com
SUMMARY:KEKKO FORNARELLI Trio
DESCRIPTION:
URL:https://www.cataniajazz.com/concerto-jazz-a-catania/kekko-fornarelli-trio/
LOCATION:MA\, via Vela 6\, Catania
CATEGORIES:Programma,Stagione MA
ATTACH;FMTTYPE=image/jpeg:https://www.cataniajazz.com/wp-content/uploads/kekkofornarelli_2.jpg
END:VEVENT
BEGIN:VEVENT
DTSTART;TZID=UTC:20171207T210000
DTEND;TZID=UTC:20171207T230000
DTSTAMP:20260425T113144
CREATED:20170901T100658Z
LAST-MODIFIED:20170901T105923Z
UID:1914-1512680400-1512687600@www.cataniajazz.com
SUMMARY:ADA MONTELLANICO Quintet “Tribute to Abbey Lincoln”
DESCRIPTION:
URL:https://www.cataniajazz.com/concerto-jazz-a-catania/ada-montellanico-quintet-tribute-to-abbey-lincoln/
LOCATION:Teatro Sangiorgi\, Via Antonino Di Sangiuliano\, 233 \, Catania\, 95131\, Italia
CATEGORIES:Programma,Stagione Sangiorgi
ATTACH;FMTTYPE=image/jpeg:https://www.cataniajazz.com/wp-content/uploads/Copertina-Abbeys-road-.jpeg
END:VEVENT
BEGIN:VEVENT
DTSTART;TZID=UTC:20171128T210000
DTEND;TZID=UTC:20171130T230000
DTSTAMP:20260425T113144
CREATED:20170901T085410Z
LAST-MODIFIED:20170903T110007Z
UID:1899-1511902800-1512082800@www.cataniajazz.com
SUMMARY:JAZZPOOL NRW SEPTET in "Canzone"
DESCRIPTION:
URL:https://www.cataniajazz.com/concerto-jazz-a-catania/jazzpool-septet-in-canzone/
LOCATION:MA\, via Vela 6\, Catania
CATEGORIES:Programma,Stagione MA
ATTACH;FMTTYPE=image/jpeg:https://www.cataniajazz.com/wp-content/uploads/Montaggio-Gruppo-Canzone_diritti-diversi-veda-scheda-informativa-it.jpg
END:VEVENT
BEGIN:VEVENT
DTSTART;TZID=UTC:20171114T210000
DTEND;TZID=UTC:20171116T230000
DTSTAMP:20260425T113144
CREATED:20170831T220202Z
LAST-MODIFIED:20170902T100651Z
UID:1898-1510693200-1510873200@www.cataniajazz.com
SUMMARY:BADI ASSAD
DESCRIPTION:
URL:https://www.cataniajazz.com/concerto-jazz-a-catania/badi-assad/
LOCATION:MA\, via Vela 6\, Catania
CATEGORIES:Programma,Stagione MA
ATTACH;FMTTYPE=image/jpeg:https://www.cataniajazz.com/wp-content/uploads/Badi-Assad.jpg
END:VEVENT
BEGIN:VEVENT
DTSTART;TZID=UTC:20171112T210000
DTEND;TZID=UTC:20171112T230000
DTSTAMP:20260425T113144
CREATED:20170831T194349Z
LAST-MODIFIED:20170901T104700Z
UID:1878-1510520400-1510527600@www.cataniajazz.com
SUMMARY:ROBERT GLASPER  TRIO with DJ SUNDANCE
DESCRIPTION:
URL:https://www.cataniajazz.com/concerto-jazz-a-catania/robert-glasper-trio-with-dj-sundance/
LOCATION:Teatro ABC\, via Pietro Mascagni 92\, Catania
CATEGORIES:Programma,XXXV Stagione
ATTACH;FMTTYPE=image/jpeg:https://www.cataniajazz.com/wp-content/uploads/url.jpg
END:VEVENT
BEGIN:VEVENT
DTSTART;TZID=UTC:20171108T210000
DTEND;TZID=UTC:20171108T230000
DTSTAMP:20260425T113144
CREATED:20170831T201109Z
LAST-MODIFIED:20170901T104627Z
UID:1876-1510174800-1510182000@www.cataniajazz.com
SUMMARY:ANDREA MOTIS & JOAN CHAMORRO QUARTET
DESCRIPTION:
URL:https://www.cataniajazz.com/concerto-jazz-a-catania/andrea-motis-joan-chamorro-quartet/
LOCATION:Teatro ABC\, via Pietro Mascagni 92\, Catania
CATEGORIES:Programma,XXXV Stagione
ATTACH;FMTTYPE=image/jpeg:https://www.cataniajazz.com/wp-content/uploads/Andrea-Motis-5183-©CarlosPericás.jpg
END:VEVENT
BEGIN:VEVENT
DTSTART;TZID=UTC:20171027T210000
DTEND;TZID=UTC:20171027T230000
DTSTAMP:20260425T113144
CREATED:20170831T185858Z
LAST-MODIFIED:20170907T092217Z
UID:1871-1509138000-1509145200@www.cataniajazz.com
SUMMARY:STEVE COLEMAN & FIVE ELEMENTS
DESCRIPTION:
URL:https://www.cataniajazz.com/concerto-jazz-a-catania/steve-coleman-five-elements/
LOCATION:Teatro ABC\, via Pietro Mascagni 92\, Catania
CATEGORIES:Programma,XXXV Stagione
ATTACH;FMTTYPE=image/jpeg:https://www.cataniajazz.com/wp-content/uploads/SColeman-CBS-32.jpg
END:VEVENT
END:VCALENDAR