BEGIN:VCALENDAR
VERSION:2.0
PRODID:-//Catania Jazz - ECPv6.9.0//NONSGML v1.0//EN
CALSCALE:GREGORIAN
METHOD:PUBLISH
X-WR-CALNAME:Catania Jazz
X-ORIGINAL-URL:https://www.cataniajazz.com
X-WR-CALDESC:Eventi per Catania Jazz
REFRESH-INTERVAL;VALUE=DURATION:PT1H
X-Robots-Tag:noindex
X-PUBLISHED-TTL:PT1H
BEGIN:VTIMEZONE
TZID:UTC
BEGIN:STANDARD
TZOFFSETFROM:+0000
TZOFFSETTO:+0000
TZNAME:UTC
DTSTART:20210101T000000
END:STANDARD
END:VTIMEZONE
BEGIN:VEVENT
DTSTART;TZID=UTC:20210724T210000
DTEND;TZID=UTC:20210724T230000
DTSTAMP:20260424T155346
CREATED:20210617T215546Z
LAST-MODIFIED:20210617T220108Z
UID:2335-1627160400-1627167600@www.cataniajazz.com
SUMMARY:CETTINA DONATO & NINNI BRUSCHETTA - " I Siciliani "
DESCRIPTION:PRIMA NAZIONALE\n\n\nCETTINA DONATO & NINNI BRUSCHETTA – ” I Siciliani “\n\n\nNinni Bruschetta voce\nCeleste Gugliandolo voce\nCettina Donato pianoforte\nDario Cecchini sassofoni\nDario Rosciglione contrabbasso\nMimmo Campanale batteria\nB.I.M.Orchestra sez. archi:\nMarcello Sirignano primo violino\nMario Gentili secondo violino\nAndrea Domini viola\nGiuseppe Tortora cello\nMusiche e arrangiamenti Cettina Donato\n\n\nPosto unico numerato € 15\,00 prev. inclusa\npresso www.ctbox.it e www.diyticket.it
URL:https://www.cataniajazz.com/concerto-jazz-a-catania/cettina-donato-ninni-bruschetta-i-siciliani/
LOCATION:Anfiteatro Falcone e Borsellino\, Via della Montagna\, 2\, Zafferana Etnea (CT)
CATEGORIES:Programma,Zafferana Jazz Festival
ATTACH;FMTTYPE=image/jpeg:https://www.cataniajazz.com/wp-content/uploads/197654001_2616144528689189_6951145997397852622_n.jpg
END:VEVENT
BEGIN:VEVENT
DTSTART;TZID=UTC:20210723T210000
DTEND;TZID=UTC:20210723T230000
DTSTAMP:20260424T155346
CREATED:20210617T215924Z
LAST-MODIFIED:20210617T215924Z
UID:2338-1627074000-1627081200@www.cataniajazz.com
SUMMARY:Rosalba Bentivoglio
DESCRIPTION:
URL:https://www.cataniajazz.com/concerto-jazz-a-catania/rosalba-bentivoglio/
LOCATION:Anfiteatro Falcone e Borsellino\, Via della Montagna\, 2\, Zafferana Etnea (CT)
CATEGORIES:Programma,Zafferana Jazz Festival
ATTACH;FMTTYPE=image/jpeg:https://www.cataniajazz.com/wp-content/uploads/Schermata-2021-06-17-alle-23.59.08.jpg
END:VEVENT
BEGIN:VEVENT
DTSTART;TZID=UTC:20210722T210000
DTEND;TZID=UTC:20210722T230000
DTSTAMP:20260424T155346
CREATED:20210617T215316Z
LAST-MODIFIED:20210617T215639Z
UID:2333-1626987600-1626994800@www.cataniajazz.com
SUMMARY:Amir Gwirtzman - Daniela Spalletta
DESCRIPTION:PRIMA NAZIONALE \n\nAmir Gwirtzman tutti i fiati del mondo \, cornamusa inclusa\n**************************************************************\n” Per Aspera Ad Astra “\n\n\nDaniela Spalletta – voce\nJani Moder – chitarra\nDonatello D’Attoma – piano\nAlberto Fidone – contrabbasso e basso elettrico\nPeppe Tringali – batteria\n+\nTRP String Quartet\n\n\nRiccardo Samperi – sound engineer\nComposizioni e arrangiamenti di Daniela Spalletta\n\n\nPRIMA NAZIONALE\n\n  \n____ \nDANIELA SPALLETTA – ” Per Aspera Ad Astra ” \nDaniela Spalletta – voce\nJani Moder – chitarra\nDonatello D’Attoma – piano\nAlberto Fidone – contrabbasso e basso elettrico\nPeppe Tringali – batteria\nGiovanni Cucuccio – primo violino\nAlexandra Dimitrova – secondo violino\nRosaria Milici – viola\nTeresa Raffaella Suriano – violoncello \nRiccardo Samperi – sound engineer\nComposizioni e arrangiamenti di Daniela Spalletta \nPosto unico numerato € 15\,00 prev. inclusa\npresso www.ctbox.it e www.diyticket.it
URL:https://www.cataniajazz.com/concerto-jazz-a-catania/amir-gwirtzman-daniela-spalletta/
LOCATION:Anfiteatro Falcone e Borsellino\, Via della Montagna\, 2\, Zafferana Etnea (CT)
CATEGORIES:Programma,Zafferana Jazz Festival
ATTACH;FMTTYPE=image/jpeg:https://www.cataniajazz.com/wp-content/uploads/Schermata-2021-06-17-alle-23.52.35.jpg
END:VEVENT
BEGIN:VEVENT
DTSTART;TZID=UTC:20210721T210000
DTEND;TZID=UTC:20210721T230000
DTSTAMP:20260424T155346
CREATED:20210617T215131Z
LAST-MODIFIED:20210617T220557Z
UID:2331-1626901200-1626908400@www.cataniajazz.com
SUMMARY:Faraj Suleiman - Tania Giannouli Trio
DESCRIPTION:
URL:https://www.cataniajazz.com/concerto-jazz-a-catania/faraj-suleiman-tania-giannouli-trio/
LOCATION:Anfiteatro Falcone e Borsellino\, Via della Montagna\, 2\, Zafferana Etnea (CT)
CATEGORIES:Programma,Zafferana Jazz Festival
ATTACH;FMTTYPE=image/jpeg:https://www.cataniajazz.com/wp-content/uploads/tania_giannouli_big_67648.jpg
END:VEVENT
BEGIN:VEVENT
DTSTART;TZID=UTC:20210720T210000
DTEND;TZID=UTC:20210720T230000
DTSTAMP:20260424T155346
CREATED:20210617T214444Z
LAST-MODIFIED:20210617T220541Z
UID:2329-1626814800-1626822000@www.cataniajazz.com
SUMMARY:Vince Abbracciante & Javier Girotto - Sophie Alour
DESCRIPTION:Acquista online
URL:https://www.cataniajazz.com/concerto-jazz-a-catania/vince-abbracciante-javier-girotto-sophie-alour/
LOCATION:Anfiteatro Falcone e Borsellino\, Via della Montagna\, 2\, Zafferana Etnea (CT)
CATEGORIES:Programma,Zafferana Jazz Festival
ATTACH;FMTTYPE=image/jpeg:https://www.cataniajazz.com/wp-content/uploads/girotto.jpg
END:VEVENT
END:VCALENDAR