BEGIN:VCALENDAR
VERSION:2.0
PRODID:-//Catania Jazz - ECPv6.9.0//NONSGML v1.0//EN
CALSCALE:GREGORIAN
METHOD:PUBLISH
X-WR-CALNAME:Catania Jazz
X-ORIGINAL-URL:https://www.cataniajazz.com
X-WR-CALDESC:Eventi per Catania Jazz
REFRESH-INTERVAL;VALUE=DURATION:PT1H
X-Robots-Tag:noindex
X-PUBLISHED-TTL:PT1H
BEGIN:VTIMEZONE
TZID:UTC
BEGIN:STANDARD
TZOFFSETFROM:+0000
TZOFFSETTO:+0000
TZNAME:UTC
DTSTART:20130101T000000
END:STANDARD
END:VTIMEZONE
BEGIN:VEVENT
DTSTART;VALUE=DATE:20130707
DTEND;VALUE=DATE:20130708
DTSTAMP:20260423T070110
CREATED:20130611T080327Z
LAST-MODIFIED:20130824T163748Z
UID:648-1373155200-1373241599@www.cataniajazz.com
SUMMARY:Incognito
DESCRIPTION:La band capitanata da Jean Paul Maunick meglio noto come Bluey\, ritorna in Sicilia dopo il grande concerto di tre anni fa per la XXVII Stagione di  Catania Jazz. \nPer Bluey e soci sarà un nuovo contatto con l’Isola che ha dato i natali al suo amico Mario Biondi con cui la band si è recentemente esibita alla Royal Albert Hall di Londra. \nIl concerto di Taormina attraverserà tutta la lunga storia della band\, dal primo album “Jazz funk” del 1981 all’ultimo “Surreal” dello scorso anno. La quindicesima fatica in studio della band inglese contiene quattordici tracce. \nhttpv://youtu.be/VA3zolfMhI4 \nI biglietti vanno da € 22 (cavea\, non numerata) a € 27\,50 (posto numerato)\, le prevendite sono quelle abituali (diritti d’agenzia inclusi). \nE’ anche possibile acquistare i biglietti online<
URL:https://www.cataniajazz.com/concerto-jazz-a-catania/incognito/
CATEGORIES:Fuori programma,Storia
ATTACH;FMTTYPE=image/jpeg:https://www.cataniajazz.com/wp-content/uploads/972223_10151614863575306_1587558359_n.jpg
END:VEVENT
END:VCALENDAR