BEGIN:VCALENDAR
VERSION:2.0
PRODID:-//Catania Jazz - ECPv6.9.0//NONSGML v1.0//EN
CALSCALE:GREGORIAN
METHOD:PUBLISH
X-ORIGINAL-URL:https://www.cataniajazz.com
X-WR-CALDESC:Eventi per Catania Jazz
REFRESH-INTERVAL;VALUE=DURATION:PT1H
X-Robots-Tag:noindex
X-PUBLISHED-TTL:PT1H
BEGIN:VTIMEZONE
TZID:UTC
BEGIN:STANDARD
TZOFFSETFROM:+0000
TZOFFSETTO:+0000
TZNAME:UTC
DTSTART:20170101T000000
END:STANDARD
END:VTIMEZONE
BEGIN:VEVENT
DTSTART;TZID=UTC:20180405T210000
DTEND;TZID=UTC:20180405T230000
DTSTAMP:20260423T041522
CREATED:20170901T093828Z
LAST-MODIFIED:20170907T142948Z
UID:1910-1522962000-1522969200@www.cataniajazz.com
SUMMARY:JAMES TAYLOR Quartet
DESCRIPTION: 
URL:https://www.cataniajazz.com/concerto-jazz-a-catania/james-taylor-quartet/
LOCATION:MA\, via Vela 6\, Catania
CATEGORIES:Fuori programma,Programma
ATTACH;FMTTYPE=image/jpeg:https://www.cataniajazz.com/wp-content/uploads/james-taylor-quartet-6.jpg
END:VEVENT
BEGIN:VEVENT
DTSTART;TZID=UTC:20170731T213000
DTEND;TZID=UTC:20170731T230000
DTSTAMP:20260423T041522
CREATED:20170722T201337Z
LAST-MODIFIED:20170722T201921Z
UID:1839-1501536600-1501542000@www.cataniajazz.com
SUMMARY:Huun-Huur-Tu
DESCRIPTION:La musica degli  può venire descritta solo come profondamente misteriosa. Ciò come diretta conseguenza del loro stile d canto armonico\, figlio di una tradizione secolare che discende dalla repubblica di Tuva\, nell’Asia centrale. \nUna tecnica nella quale il cantante\, sfruttando le risonanze che si creano nel tratto tra le corde vocali e la bocca\, emette contemporaneamente la nota e l’armonico relativo (detto anche ipertono). Questa tecnica (in inglese throat singing) permette lo sviluppo di un universo del suono unico e coinvolgente\, ricco di armonici sopra e sotto la frequenza fondamentale. \nI quattro performer sono in grado di produrre ben sei o sette distinte voci che cantano tra di loro. Accompagnandosi con strumenti a corda pizzicati e percussioni. \nHanno inciso con Kronos Quartet\, il percussionista indiano Trilok Gurtu\, il compositore classico russo Vladimir Martynov\, il coro The Bulgarian Voices Angelite\, il trio jazz Moscow Art Trio\, la cantante di Tuva Sainkho\, e con Ry Cooder hanno co-composto sei brani per la colonna sonora di “Geronimo” di Walter Hill. Si sono esibiti inoltre assieme a Frank Zappa\, The Chieftains\, Johnny “Guitar” Watson e L. Shankar tra gli altri. \nIl gruppo si esibirà anche a Palermo il 30 luglio\, presso la terrazza dell’NH Hotel – Foro Italico. \nCosto del biglietto: intero € 12 – ridotto abbonati Catania Jazz e Nomos Jazz € 8 (diritti d’agenzia inclusi).
URL:https://www.cataniajazz.com/concerto-jazz-a-catania/huun-huur-tu/
LOCATION:Ex Monastero dei Benedettini (Chiostro di Ponente)\, Piazza Dante\, Catania
CATEGORIES:Fuori programma,Programma
ATTACH;FMTTYPE=image/jpeg:https://www.cataniajazz.com/wp-content/uploads/hht_crop.720x360n.jpg
END:VEVENT
BEGIN:VEVENT
DTSTART;TZID=UTC:20170222T210000
DTEND;TZID=UTC:20170222T230000
DTSTAMP:20260423T041522
CREATED:20170121T131014Z
LAST-MODIFIED:20170220T152833Z
UID:1733-1487797200-1487804400@www.cataniajazz.com
SUMMARY:Diane Schuur meets Gerardo Di Lella Jazz Orchestra
DESCRIPTION:Arriva direttamente da Los Angeles in Sicilia una delle regine indiscusse del jazz mondiale\,la grande  e unica Diane Schuur \nVincitrice di ben due Grammy Awards\,Diane Schuur grazie alla sua imparagonabile vocalità è riconosciuta come stella di prima grandezza a livello planetario.A due anni di distanza dalla fortunata collaborazione discografica e dell’album a firma Di Lella Napoli & Jazz ( distr. Universal ) una produzione che ospita alcuni tra i più grandi solisti jazz del mondo ( Adam Nussbaum\,Dave Kikoski\,Paquito D’Rivera\,Tom Harrell\,Bob Mintzer\,Alex Sipiagin\,Robin Eubanks\,Larry Carlton e Fabrizio Bosso )\,i due artisti si sono riuniti per questa occasione. \nIl concerto \,assolutamente originale e che prevede le più belle pagine del song book americano\,mette in evidenza sia le capacità interpretative uniche di Diane Schuur che l’eleganza\,l’autorevolezza oltre alla versatilità come arrangiatore e direttore di orchestra di Gerardo Di Lella. \nIl concerto mette in evidenza  sia le capacità interpretative di Diane Schuur che quelle di Gerardo Di Lella\,elegante\,autorevole quanto versatile arrangiatore e direttore d’orchestra di musica “extracolta” italiano. \nCon la spinta di un’orchestra di 14 elementi (4 sassofoni\,4 trombe\,2 tromboni\,piano\,chitarra\,contrabasso e batteria\,vengono proposti anche brani arrangiati per l’occasione da Di Lella come “Speak low”\, “Our love is Here To Stay\,Sweet Giorgia Brown e rifacimenti originalissimi di brani napoletani come Torna A Surriento.La scaletta prevede anche le storiche partiture della Count Basie Orchestra registrate espressamente per la Schuur nei suoi album più acceditati\,come I just Found About Love\,Besame Mucho\,Louisiana Sunday Afternoon\,Easy To Love\,I caught a touch of Your Love e la celeberrima Deedle’s Blues. \nCon la sua straordinaria forza interpretativa e la leggendaria estensione vocale\, Diane Schuur\, cieca dalla nascita\, durante la sua lunga carriera si è guadagnata l’adorazione da parte della critica di tutto il mondo. La voce della Schuur\, tanto potente quanto estremamente flessibile\, copre magistralmente tutta la gamma dei registri ed è considerata dai critici “Una voce completa ed eclettica”. \nNata a Tacoma\, Washington\, la vocalist Diane Schuur si è guadagnata il rispetto e gli elogi delle piu’ leggendarie figure della musica jazz e blues\, quali Dizzy Gillespie\, Count Basie and B.B. King. \nPosto numerato Sala € 35\,00 + prevendita\nRidotto abbonati Catania Jazz € 25\,00 + prevendita\nPosto numerato Tribuna € 25\,00 + prevendita\nRidotto abbonati Catania Jazz € 15\,00 + prevendita \npresso Circuito Box Office – www.ctbox.it – tel. 095.7225340\ne al botteghino del Teatro ABC nelle sere del 19 e 29 novembre \nLa riduzione vale anche per gli abbonati Catania Jazz solo MA.
URL:https://www.cataniajazz.com/concerto-jazz-a-catania/diane-schuur-meets-gerardo-di-lella-jazz-orchestra/
LOCATION:Teatro ABC\, via Pietro Mascagni 92\, Catania
CATEGORIES:Fuori programma,Programma
ATTACH;FMTTYPE=image/jpeg:https://www.cataniajazz.com/wp-content/uploads/15036592_1620210551615930_7703149937214487092_n.jpg
END:VEVENT
END:VCALENDAR