BEGIN:VCALENDAR
VERSION:2.0
PRODID:-//Catania Jazz - ECPv6.9.0//NONSGML v1.0//EN
CALSCALE:GREGORIAN
METHOD:PUBLISH
X-ORIGINAL-URL:https://www.cataniajazz.com
X-WR-CALDESC:Eventi per Catania Jazz
REFRESH-INTERVAL;VALUE=DURATION:PT1H
X-Robots-Tag:noindex
X-PUBLISHED-TTL:PT1H
BEGIN:VTIMEZONE
TZID:UTC
BEGIN:STANDARD
TZOFFSETFROM:+0000
TZOFFSETTO:+0000
TZNAME:UTC
DTSTART:20150101T000000
END:STANDARD
END:VTIMEZONE
BEGIN:VEVENT
DTSTART;TZID=UTC:20160726T210000
DTEND;TZID=UTC:20160726T230000
DTSTAMP:20260422T225850
CREATED:20160521T110320Z
LAST-MODIFIED:20160711T101332Z
UID:1660-1469566800-1469574000@www.cataniajazz.com
SUMMARY:NIK WEST BAND + ADAM BEN EZRA
DESCRIPTION:Nik West “Bass in your face” Tour\nÈ stata una delle migliori amiche di Prince\, a tal punto che il giorno della sua scomparsa\, Nik è stata sommersa da interviste da parte di tutte le tv americane. E questo concerto\, in un certo senso\, potrebbe trasformarsi in un tributo alla sua memoria. È ammirata e apprezzata non solo da artisti come il genio di Minneapolis ma anche da protagonisti come Dave Stewart degli Eurythmics (“È la versione al femminile di Lenny Kravitz”) o Steven Tyler (“Ho sentito subito che c’era qualcosa di speciale in quella donna con quei capelli”). \nBassista\, cantante e cantautrice\, Nik West non è solo ciò che vuole apparire con il suo look originale. Alex Henderson\, giornalista dell’autorevole rivista americana Billboard\, ha scritto di lei: “È una giovane bassista elettrica che sa perfettamente che cosa vuole ottenere dal suo strumento e che suona come se fosse ispirata dal Funky di Larry Graham\, Louis Johnson e Marcus Miller”. Il che è tutto dire… Nick è anche una cantante altamente espressiva.\n \nCon la sua versione di “Black Is Black” degli AC/DC ha saputo persino impressionare i fanatici del Rock conquistando la stima di una leggenda come Steven Tyler. Sono infatti moltissimi gli ottimi cantanti sulla piazza\, pochi però hanno nella voce un carattere timbrico forte come quello di Nick. Un giorno ha detto: “Sono rimasta sorpresa quando ho saputo che Lenny Kravitz dopo aver visto tutti I miei video era rimasto così impressionato da come cantavo che mi voleva conoscere!”.\nAl fenomeno musicale di Nick West in simbiosi unica con il suo basso Fender si aggiunge uno straordinario e coloratissimo look che\, per inciso\, le ha procurato un numero ragguardevole di copertine e articoli su riviste musicali specializzate. Ma ciò che conta è il suo groove funky: irresistibile. Divertirà e conquisterà la piazza! \nFormazione \nNik West: Bass\, vocals\nNichelle Koto: backing vocal\nChris Turner: keyboards\nHubie Wang: guitar\nAriel Melonie: guitar\nRJ Norwood Jr: drums \n============================================= \nAdam Ben Ezra solo – double bass\,voice\,electronics\nCi sono musicisti normali e poi ci sono i fenomeni del contrabbasso come Adam Ben Ezra; un uomo apparentemente in missione per portare il suo strumento dallo status tradizionale di accompagnamento alla presenza dominante che merita. Lungo la strada Adam sta spingendo il suo talento in nuove direzioni emozionanti \,ritagliandosi un luogo unico per se stesso nel panorama musicale internazionale di oggi. \nIl termine “multi-strumentalista” è spesso abusato\, ma in questo caso non potrebbe essere più adatto; Adam ha iniziato a suonare il violino all’età di cinque anni e la chitarra all’età di nove anni. Negli ultimi anni ha aggiunto il clarinetto\, l’oud e il cajon al suo arsenale.Tuttavia\, è stata l’ introduzione al contrabbasso all’età di 16 anni che veramente ha cambiato la sua vita\, quando da subito si innamorò del ricco suono dello strumento. \nTraendo ispirazione da eroi diversi come Bach\, Sting e Chick Corea\, Adam ha preso la chiara decisione di rendere contemporanee le sue composizioni – non importa lo strumento utilizzato. Ha consapevolmente aggiunto nuovi colori alla sua tavolozza\, incorporando elementi di jazz\, musica latina e mediterranea nel suo modo di suonare. \nSia che suoni materiale originale o arrangiamenti di composizioni note\, Adam Ben Ezra è una forza creativa della natura\, che può trasformare una stanza piena di estranei in fans permanenti in un attimo. Indipendentemente se suona da solo o alla testa del suo trio con chitarra e percussioni\, non ci sono due spettacoli uguali. Usando una combinazione intelligente di effetti e pedali\, Adam Ben Ezra coi suoi loop regala suoni\, degni di una piccola orchestra. \nI suoi sforzi non sono passati inosservati ed è regolarmente invitato ad esibirsi in tutto il mondo\, con un aumento delle richieste di presenze internazionali e la necessità di spingere ulteriormente il suo strumento\, Adam ha commissionato uno speciale contrabbasso da viaggio con una configurazione collo rimovibile insolito che gli permette di partire anche all’ultimo momento. \nDopo milioni di visualizzazioni dei suoi video in rete quest’anno ha pubblicato il suo primo album ” I Can’t Stop Running ” e intanto si è unito anche al nuovo progetto discografico della sua amica Noa\,accompagnandola in giro per il mondo.\nIl talento unico di Adam Ben Ezra\, la superba musicalità e grande personalità fanno di lui il candidato ideale per prendere uno strumento difficile come il contrabasso e spingerlo nel 21° secolo. \n============================================= \nDJ Set con SALVO BORRELLI e GIACOMO COTTONE \n 
URL:https://www.cataniajazz.com/concerto-jazz-a-catania/nik-west-band/
LOCATION:Chiostro ex Monastero dei Benedettini\, Piazza Dante\, Catania\, Italia
CATEGORIES:Fuori programma
ATTACH;FMTTYPE=image/jpeg:https://www.cataniajazz.com/wp-content/uploads/01.jpeg
END:VEVENT
BEGIN:VEVENT
DTSTART;TZID=UTC:20150706T213000
DTEND;TZID=UTC:20150712T230000
DTSTAMP:20260422T225850
CREATED:20150315T155158Z
LAST-MODIFIED:20151025T092528Z
UID:1547-1436218200-1436742000@www.cataniajazz.com
SUMMARY:Catania Jazz Marathon
DESCRIPTION:CATANIA JAZZ in collaborazione con l’UNIVERSITA’ DI CATANIA e con il contributo della REGIONE PUGLIA-PUGLIA SOUNDS presenta : \nCATANIA JAZZ MARATHON dal 6 al 10 luglio 2015\nORE 21.00 \nCORTE EX MONASTERO DEI BENEDETTINI – PIAZZA DANTE \nPROGRAMMA DEI CONCERTI: \n—————— 6 luglio ———————\n• TINISSIMA 4tet MONK’N Roll\nFrancesco Bearzatti – Sax e clarinetto\nMauro Ottolini – Tromba\nDanilo Gallo – Basso\nZeno De Rossi – Batteria \n• GUANO PADANO\nAlessandro “Asso” Stefana – Chitarre\nDanilo Gallo – Basso\nZeno De Rossi – Batteria \n• GIUSEPPE CAMPISI QUINTET\nGiuseppe Campisi – Contrabasso\nLeonardo Marino – Piano\nGiacomo Tantillo – Tromba\nFrancesco Patti – Sax tenore e alto\nMarcello Arrabito – Batteria \n• SAM MORTELLARO TRIO\nSam Mortellaro – Piano\nAngelo Minacapilli – Contrabasso\nFrancesco Alessi – Batteria \n—————— 7 luglio ———————\n• ENZO FAVATA INNER ROADS QUARTET\nEnzo Favata – Sassofoni\nEnrico Zanisi – Piano\nDanilo Gallo – Contrabasso\nU.T. Gandhi – Batteria \n• ALMA QUARTET\nCarmelo Venuto – Contrabasso\nAlessandro Presti – Tromba\nGiuseppe Asero – Sax contralto\nGaetano Presti – Batteria \n• ALEAQUARTET\nMaurizio La Ferla – Piano\nPier Paolo Alberghini – Contrabasso\nSalvo Tempio – Sax\nGiampaolo Terranova – Batteria \n• WE5\nValerio Rizzo – Pianoforte\nGiuseppe Cucchiara – Contrabbasso\nPaolo Vicari – Batteria\nGiacomo Tantillo – Tromba e Flicorno\nFrancesco Patti – Sax tenore \n—————— 8 luglio ———————\n• FRANCESCO DIODATI NEKO\nFrancesco Diodati – Chitarra\nCarlo Conti – Sassofoni\nFrancesco Ponticelli – Basso e contrabbasso\nErmanno Baron – Batteria \n• EMANUELE PRIMAVERA QUARTET\nEmanuele Primavera – Batteria\nRaffaele Genovese – Piano\nCarmelo Venuto – Contrabasso\nAlessandro Presti – Tromba \n• MAJANI JAZZ TRIO\nAldo Majani – Piano\nFabrizio Scalzo – Contrabasso\nMarco Santonocito – Batteria \n• CHIARA MINALDI QUARTET\nChiara Minaldi – Voce\nNicholas Vella – Piano\nDavide Inguaggiato – Contrabbasso\nFabrizio Francoforte – Batteria. \n—————— 9 luglio ———————\n• KEKKO FORNARELLI TRIO\nKekko Fornarelli – Piano e synth\nGiorgio Vendola – Contrabasso\nDario Congedo – Batteria \n• I.R.A. TRIO\nTommaso Vespo – Piano\nAntonio Aiello – Contrabasso\nAntonio Longo – Batteria \n• BARBARA FERRANTE\nBarbara Ferrante – Voce\nMarco Puglisi – Piano\nRiccardo Grosso – Contrabasso\nAndrea Liotta – Batteria \n• PANTOMIMA BAND\nGiuseppe Schillaci – Basso elettrico e synth\nAntonio Aiello – Contrabasso\nAndrea Sciacca – Batteria \n—————— 10 luglio ——————-\n• GAETANO PARTIPILO & THE AUANDERS\nGaetano Partipilo – Sax contralto\nFrancesco Lento – Tromba\nCarlo Conti – Sassofoni\nGiuseppe Scardino – Sax baritono\nFilippo Vignato – Ttrombone\nFederico Pierantoni – Trombone\nFrancesco Diodati – Chitarra\nFrancesco Ponticelli – Basso e contrabbasso\nErmanno Baron – Batteria \n• DOXY JAZZ QUARTET\nFrancesco Vaccaro – Sassofono\nAngelo Fichera – Piano\nAndrea Alemanno – Basso\nGiovanni Finocchiaro – Batteria \n• B. B. JAZZ QUARTET\nNino Sortino – Sassofono\nDomenico Longo – Piano\nLuigi Cuscunà – Contrabasso\nLuca Barbato – Batteria \n• SERGIO SPAMPINATO SOLO GUITAR\nSergio Spampinato – Chitarra \nin collaborazione con : \n• EUROPE JAZZ NETWORK\n• I-JAZZ\n• TOSCANA MUSIC POOL\n• NOVARA JAZZ\n• FANO JAZZ BY THE SEA\n• PISA JAZZ\n• UNA STRISCIA DI TERRA FECONDA\n• NUORO JAZZ\n• PEPERONCINO JAZZ FESTIVAL\n• FARA JAZZ\n• TAM-TUTTA UN’ALTRA MUSICA\n• PREMIO MASSIMO URBANI – CAMERINO\n• TIME IN JAZZ – BERCHIDDA\n• SIENA JAZZ\n• SUDTIROL JAZZFESTIVAL\n* UDINE JAZZ\n• CROSSROADS – EMILIA ROMAGNA JAZZ Network\n• MARCHE JAZZ NETWORK\n• ALFA MUSIC RECORDS \nFOOD & DRINK BY NIEVSKI \n##########################################\nPARTY FINALE 12 LUGLIO CON I BRIGANTINI\n(concerto offerto dalla band per sostenere Catania Jazz)\n########################################## \nLa commissione sarà formata da:\nGIANMICHELE TAORMINA ( Jazzitalia )\nENZO FUGALDI ( Musica Jazz )\nPAOLO GALLETTA ( Jazz It )\nGIORGIO ROMEO ( La Sicilia )\nFRANCESCO CUSA (Musicista e Docente)\nPAOLO SORGE (Musicista e Docente)\nLa commissione sceglierà i gruppi e/o i solisti siciliani che parteciperanno nel 2016 ai festivals sopra indicati.\nCatania Jazz selezionerà alcuni gruppi e/o solisti che saranno inclusi nelle stagioni invernali 2015/2016\nOgni gruppo siciliano suonerà per circa 30 minuti.\nSarà data preferenza a chi ha una produzione discografica recente o in corso.\nSi chiederà a ciascun gruppo di consegnare entro il 9 luglio un file audio per la pubblicazione di un CD che Catania Jazz utilizzerà per promuovere le bands partecipanti nei festivals europei di Europe Jazz Network.Questa richiesta non è obbligatoria\,si lascia facoltà a ciascun musicista di aderire o meno all’iniziativa. \nPotete anche postare qui il vostro materiale in audio e/o video se volete già farlo ascoltare alle migliaia di persone che sono in contatto con noi. \nBIGLIETTI : € 7\,00 ( + diritti di prev.) il 6 e il 12 luglio\n€ 5\,00 ( + diritti di prev. ) gli altri giorni\n€ 4\,00 ( + diritti di prev ) personale univ.\nGRATUITO PER GLI UNIVERSITARI e € 1\,0 PER GLI UNDER 26 \nBiglietti personale università e giovani under 26 anni solo al botteghino dei Benedettini \nBiglietti prezzo intero :\npresso Circuito Box Office – via Giacomo Leopardi 95 – Catania.\nwww.ctbox.it – online su www.boxol.it – tel. 095.7225340 \ninfo@cataniajazz.it\nwww.cataniajazz.
URL:https://www.cataniajazz.com/concerto-jazz-a-catania/catania-jazz-marathon/
LOCATION:Monastero dei Benedettini\, Piazza Dante\, Catania\, Italia
CATEGORIES:Fuori programma,Storia
END:VEVENT
BEGIN:VEVENT
DTSTART;TZID=UTC:20150427T213000
DTEND;TZID=UTC:20150427T230000
DTSTAMP:20260422T225850
CREATED:20150315T155217Z
LAST-MODIFIED:20151025T092557Z
UID:1546-1430170200-1430175600@www.cataniajazz.com
SUMMARY:ANTONIO SANCHEZ & MIGRATION BAND
DESCRIPTION:(coming soon)
URL:https://www.cataniajazz.com/concerto-jazz-a-catania/antonio-sanchez-migration-band/
LOCATION:MA\, via Vela 6\, Catania
CATEGORIES:Fuori programma,Storia
ATTACH;FMTTYPE=image/jpeg:https://www.cataniajazz.com/wp-content/uploads/sanchez.jpg
END:VEVENT
BEGIN:VEVENT
DTSTART;TZID=UTC:20150422T213000
DTEND;TZID=UTC:20150422T230000
DTSTAMP:20260422T225850
CREATED:20150315T154600Z
LAST-MODIFIED:20151025T092611Z
UID:1545-1429738200-1429743600@www.cataniajazz.com
SUMMARY:Remo Anzovino
DESCRIPTION:(coming soon)
URL:https://www.cataniajazz.com/concerto-jazz-a-catania/remo-anzovino/
LOCATION:MA\, via Vela 6\, Catania
CATEGORIES:Fuori programma,Storia
ATTACH;FMTTYPE=image/jpeg:https://www.cataniajazz.com/wp-content/uploads/remo.jpg
END:VEVENT
END:VCALENDAR