BEGIN:VCALENDAR
VERSION:2.0
PRODID:-//Catania Jazz - ECPv6.9.0//NONSGML v1.0//EN
CALSCALE:GREGORIAN
METHOD:PUBLISH
X-WR-CALNAME:Catania Jazz
X-ORIGINAL-URL:https://www.cataniajazz.com
X-WR-CALDESC:Eventi per Catania Jazz
REFRESH-INTERVAL;VALUE=DURATION:PT1H
X-Robots-Tag:noindex
X-PUBLISHED-TTL:PT1H
BEGIN:VTIMEZONE
TZID:UTC
BEGIN:STANDARD
TZOFFSETFROM:+0000
TZOFFSETTO:+0000
TZNAME:UTC
DTSTART:20140101T000000
END:STANDARD
END:VTIMEZONE
BEGIN:VEVENT
DTSTART;TZID=UTC:20140821T213000
DTEND;TZID=UTC:20140821T230000
DTSTAMP:20260424T155339
CREATED:20140813T131933Z
LAST-MODIFIED:20141105T095445Z
UID:1469-1408656600-1408662000@www.cataniajazz.com
SUMMARY:Noa "Love Medicine" Tour
DESCRIPTION:L’ultimo disco di Noa\, “Love Medicine” uscito il 22 luglio\, vede ancora la stretta collaborazione del chitarrista Gil Dor\, ormai parte creativa della stessa artista israeliana. Il disco vede una sorta di reunion fra Noa\, Gil e Pat Metheny\, che aveva prodotto vent’anni fa “Noa” il disco d’esordio. Metheny ha suonato un assolo nella canzone che ha co-prodotto “Eternity in beauty”. \nAltro grande ospite è il cantante spagnolo Joaquín Sabina\, che canta con lei “You-Tù”\, un brano cantato in inglese e spagnolo. Il disco ospita anche cover interessanti\, come “Eternal flame” delle Bangles\, in un arrangiamento molto originale di Gil Dor\, e “Happy song” di Bobby McFerrin\, collaborazione nata dopo un concerto insieme a Tel Aviv un anno fa. \nSu “Love medicine” anche “Look at the Moon”\, “Don’t be afraid of anything”\, “Little star”\, “Love love love”\, “Deep as your eyes”\, le canzoni scritte dalla stessa Noa per il musical su Giovanni Paolo II “Karol Wojtyla – la vera storia” con la partecipazione del Solis String Quartet\, una ulteriore manifestazione di spiritualità dell’artista. \nMira Awad \nPer metà Palestinese e per metà bulgara\, la cantante\, autrice e attrice vive a Tel-Aviv. \nNata a Rameh\, un villaggio palestinese nel Nord di Israele\, ha studiato alla Rimon School for Jazz and Contemporary Music. Attraverso la sua carriera\, Mira ha sviluppato una unica fusione di sonorità\, combinando Oriente e Occidente\, fondendo la lingua araba e i suoi arrangiamenti orientali con le armonie occidentali\, creando così un ricco arazzo di suoni. La sua world music combina molti stili e suoni. \nNel 2009 ha realizzato “There must be another way”\, album di duetti con Noa: con il brano omonimo le due gareggiarono all’Eurovovision Song Contest. Subito dopo uscì col suo disco d’esordio “Acrobat”. L’ultimo disco è “All my faces” del 2011. \nAlla fine del 2012 ha creato l’etichetta Label Free\, etichetta indipendente di world music. Mira è anche una famosa attrice – si è distinta nel musical “My Fair lady” – ha lavorato per sette anni al Cameri theatre dove si è distinta nella messa in scena di “Ritorno ad Haifa”\, basata sullo scritto dell’autore palestinese Ghassan Kanafani. Adesso sta lavorando al teatro arabo-ebraico di Jaffa\, basato sull’idea di co-esistenza\, dove ebrei e arabi producono spettacoli bi-li
URL:https://www.cataniajazz.com/concerto-jazz-a-catania/noa-love-medicine-tour/
LOCATION:Anfiteatro Falcone e Borsellino\, Via della Montagna\, 2\, Zafferana Etnea (CT)
CATEGORIES:Catania Jazz Estate,Storia
ATTACH;FMTTYPE=image/jpeg:https://www.cataniajazz.com/wp-content/uploads/Noa-e-band-2.jpg
END:VEVENT
BEGIN:VEVENT
DTSTART;TZID=UTC:20140730T213000
DTEND;TZID=UTC:20140730T230000
DTSTAMP:20260424T155339
CREATED:20140617T185134Z
LAST-MODIFIED:20141105T095455Z
UID:1436-1406755800-1406761200@www.cataniajazz.com
SUMMARY:Daria Biancardi & Soul Caravan
DESCRIPTION:Daria Biancardi” inizia a cantare all’età di 18 anni entrando a far parte del gruppo gospel “Palermo Spiritual Ensemble”\, collaborazione che le ha permesso di esibirsi insieme a grandi nomi quali gli irlandesi “Chieftains”\, di partecipare al disco di Francesco Baccini “Nostra Signora degli Autogrill” e di aprire il concerto degli “Earth Wind and Fire” nella splendida cornice del Teatro Greco di Taormina. \nNel 1997 si esibisce come solista al “Festival di Benevento” e nel 1999 all’Accademia \ndella Canzone di Sanremo\, presentando brani inediti. \nIl 2000 è l’anno in cui decide di tentare la fortuna negli Stati Uniti\, dove riesce ad ottenere un contratto presso una società di Philadelphia che le dà l’opportunità di esibirsi nel leggendario tempio della “Black music” di Harlem\, NY\, Apollo Theater. \nNel 2009 con i musicisti Massimiliano Cusumano (chitarra)\, Giuseppe Filippi (Basso) e Francesco Passannanti (batteria)\, fonda il quartetto “DARIA BIANCARDI & THE SOUL CARAVAN” intraprendendo un ambizioso progetto che si propone di sperimentare nuove idee\, rivisitando i classici del Soul\, del Funk e del Rhythm & Blues. \nIl 2014 è l’anno della consacrazione\, testimoniata dall’enorme successo riscosso nella trasmissione di RAI 2 “THE VOICE OF ITALY”. \nFormazione\nDaria Biancardi – Voce\nMassimiliano Cusumano – Chitarra\nGiuseppe Filippi – Basso\nFrancesco Passannanti – B
URL:https://www.cataniajazz.com/concerto-jazz-a-catania/daria-biancardi-soul-caravan/
LOCATION:Castello Normanno\, Paternò
CATEGORIES:Catania Jazz Estate,Storia
ATTACH;FMTTYPE=image/jpeg:https://www.cataniajazz.com/wp-content/uploads/Daria-HAT.jpg
END:VEVENT
BEGIN:VEVENT
DTSTART;TZID=UTC:20140729T213000
DTEND;TZID=UTC:20140729T230000
DTSTAMP:20260424T155339
CREATED:20140617T190228Z
LAST-MODIFIED:20140630T205543Z
UID:1439-1406669400-1406674800@www.cataniajazz.com
SUMMARY:Richard Bona Quintet
DESCRIPTION:Presentazione\n“Immaginate un artista con virtuosismo di Jaco Pastorius\, la fluidità vocale di George Benson\, il senso del canto e l’armonia di Joao Gilberto\, il tutto mescolato con la cultura africana. Signore e signori\, questo è Richard Bona!” così scrisse il Los Angeles Times su Richard Bona\, uno dei più talentuosi bassisti in circolazione oggi ma anche come un cantautore con una voce singolare. \n \nRichard Bona è nato nel villaggio camerunense di Minta\, il suo legame con la musica è magico e ha origini sin dalla sua infanzia. \nQuando era bambino si ammalò di malaria e la sua famiglia scoprì che solo il suono del balafon poteva lenire la sua malattia. Quando si riprese\, suo nonno\, il griot del villaggio\, gli mostrò come costruire il proprio strumento. \nCominciò a suonare per ore e ore ogni giorno e ben presto era in grado di suonare qualsiasi tipo di strumento: flauto\, percussioni\, batteria. \nQuando aveva 11 anni la sua famiglia si trasferì nella grande città di Douala dove Bona si innamorò del suono della chitarra; si costruì una 12 corde\, utilizzando il cavo del freno della bicicletta e cominciò da subito a suonare  nelle  bande di Makossa locali. \nPoi il destino è intervenuto quando un  promoter francese aprì un jazz club in un albergo locale e cercò il ragazzo di talento di cui aveva sentito parlare\, chiedendogli di mettere insieme una band. \nBona non sapeva nulla di jazz\, al momento\, ma aveva bisogno di suonare. Fortunatamente\, il proprietario del club gli passò  oltre 500 dischi e Bona trascorse i suoi giorni e le sue notti all’ascolto e poi a provare quello che aveva imparato. Una delle prime cose che sentì fu è un l’album di  Jaco Pastorius che cambiò la sua vita per sempre. \nPiù tardi Bona sarebbe stato assunto proprio per prendere il posto del leggendario bassista nella band di Joe Zawinul. \nNel corso degli anni 1990  la musicalità e  il virtuosismo di Richard Bona divennero leggenda urbana a Parigi come a New York. \nBona ha suonato  con le stelle afro-pop di  Manu Dibango e Salif Keita. Ha girato e registrato con Pat Metheny\, Joe Zawinul\, Didier Lockwood\, Harry Belafonte\, Quincy Jones\, Herbie Hancock\, Chick Corea\, Steve Gadd\, Michael Brecker\, Randy Brecker\, Chaka Khan\, Jacques Higelin\, Shankar Mahadevan\, Tito Puente\, Chucho Valdès\, Mike Stern\, Larry Coryell\, David Sanborn\, Kenny Garrett\, Joe Sample\, Harry Connick Jr.\, Raul Midon\, Billy Cobham\, queen Latifah\, Branford Marsalis\, Bobby McFerrin\, Chick Corea\, e Sadao Watanabe. \nNel corso della sua carriera ha pubblicato sette album – Scenes from My Life (Columbia\, 1999)\, Kaze Ga Kureta Melody (Sony\, 2000)\, La riverenza (Columbia Europa\, 2001)\, Munia: Il Racconto (Verve 2003)\, Kiki (Decca\, 2006)\, Bona Makes You Sweat (Decca\, 2010)\, e The Ten Shades of Blues (Decca\, 2010). L’ultimo album di Richard Bona\, “Bonafied\,” è uscito a febbraio 2013. \nFormazione\nRichard Bona – basso elettrico e voce\nEtienne Stadwijk – tastiere\nAdam Stoler – chitarra\nTatum Greenblatt – tromba\nLudwig Afonso – batteria
URL:https://www.cataniajazz.com/concerto-jazz-a-catania/richard-bona-quintet/
LOCATION:Anfiteatro Falcone e Borsellino\, Via della Montagna\, 2\, Zafferana Etnea (CT)
CATEGORIES:Catania Jazz Estate,Programma
ATTACH;FMTTYPE=image/jpeg:https://www.cataniajazz.com/wp-content/uploads/bona2.jpg
END:VEVENT
BEGIN:VEVENT
DTSTART;TZID=UTC:20140728T213000
DTEND;TZID=UTC:20140728T230000
DTSTAMP:20260424T155339
CREATED:20140617T184543Z
LAST-MODIFIED:20140623T173741Z
UID:1433-1406583000-1406588400@www.cataniajazz.com
SUMMARY:ADAM BEN EZRA solo + IRIT DEKEL & ELDAN ZITRIN QUINTET
DESCRIPTION:Presentazione Adam Ben Ezra\nCi sono musicisti normali e poi ci sono i fenomeni del contrabbasso come Adam Ben Ezra; un uomo apparentemente in missione per portare il suo strumento dallo status tradizionale di accompagnamento alla presenza dominante che merita. Lungo la strada Adam sta spingendo il suo talento in nuove direzioni emozionanti \,ritagliandosi un luogo unico per se stesso nel panorama musicale internazionale di oggi. \nIl termine “multi-strumentalista” è spesso abusato\, ma in questo caso non potrebbe essere più adatto; Adam ha iniziato a suonare il violino all’età di cinque anni e la chitarra all’età di nove anni. Negli ultimi anni ha aggiunto il clarinetto\, l’oud e il cajon al suo arsenale\, in gran parte autodidatta ogni volta. Tuttavia\, è stata l’ introduzione al contrabbasso all’età di 16 anni che veramente ha cambiato la sua vita\, quando da subito si innamorò del ricco suono dello strumento. \nTraendo ispirazione da eroi diversi come Bach\, Sting e Chick Corea\, Adam ha preso la chiara decisione di rendere contemporanee le sue composizioni – non importa lo strumento utilizzato. Ha consapevolmente aggiunto nuovi colori alla sua tavolozza\, incorporando elementi di jazz\, musica latina e mediterranea nel suo modo di suonare. \nSia che suoni materiale originale o arrangiamenti di composizioni note\, ABE è una forza creativa della natura\, che può trasformare una stanza piena di estranei in fans permanenti in un attimo. Indipendentemente se suona da solo o alla testa del suo trioc con chitarra e percussioni\, non ci sono due spettacoli uguali. Usando una combinazione intelligente di effetti e pedali\, Adam Ben Ezra coi suoi loop regala suoni\, degni di una piccola orchestra. \nI suoi sforzi non sono passati inosservati ed è regolarmente invitato ad esibirsi in tutto il mondo\, Con un aumento delle richieste di presenze internazionali e la necessità di spingere ulteriormente il suo strumento\, Adam ha commissionato uno speciale contrabbasso da viaggio con una configurazione collo rimovibile insolito che gli permette di partire anche all’ultimo momento. \nAdamo fa parte di una nuova generazione di musicisti che utilizzano YouTube per promuovere la sua musica e interagire con i fan. Le sue immagini uniche\, l’evidente senso dell’umorismo e il suggestivo tocco di editing rende perfetta la visuale\, e ad oggi i suoi video hanno totalizzato milioni di visite e decine di migliaia di abbonati.Ha iniziato a lavorare al suo album di debutto\, previsto alla fine di quest’anno\, e intanto si è unito anche al nuovo progetto discografico della sua amica Noa\,accompagnandola in giro per il mondo. \nIl talento unico di Adam Ben Ezra\, la superba musicalità e grande personalità fanno di lui il candidato ideale per prendere uno strumento difficile come il contrabasso e spingerlo nel 21° secolo. \nPresentazione Irit Dekel & Eldan Zitrin Quintet\nLast Of Songs è l’album di debutto dI Irit Dekel e Eldad Zitrin e offre un collage unico e incantevole di jazz\, folk contemporaneo e pop tradizionale. E’ il tipo di album che viene riempito fino all’orlo di melodie eleganti che rimangono con noi a lungo dopo che sono state ascoltate. \n \nNon era molto tempo fa che la cantante / attrice Irit Dekel cercava su un collaboratore ideale di cui fidarsi veramente.Eldad Zitrin d’altra parte era stato un purista del jazz per gran parte dei suoi anni di formazione prima di scheggiare via \, immergendosi in una varietà di rock e pop . \nIl rapporto tra i due\, iniziato come la quintessenza artista / produttore si è rapidamente evoluto in un matrimonio musicale inaspettato e meraviglioso costruito su un inequivocabile ammirazione reciproca. Questa fede completa nell’ altro e la capacità significativa di Eldad Zitrin che ha avuto totale libertà creativa ed è stato in grado di iniettare quelle stesse armonie che un tempo erano state una così grande parte della sua vita in queste nuove composizioni. \n‘Last Of Songs’ simboleggia brandelli di canzoni e melodie a lungo nutrite.ricostruite e ri-immaginate con una nuova sensuale visione. \nLe loro tracce assumono un significato del tutto nuovo per l’abilità del duo di optare per diversi formati orchestrali a seconda del luogo e occasione. Sono state composte per quintetto o sestetto \, ma sono state eseguite anche con organici orchestrali di oltre 30 elementi. \nIl risultato è strati su strati di arpeggi ossessionanti e linee orchestrali seducenti che agiscono come un meraviglioso scenario suggestivo per la calda voce di Irit. Dopo essere stato presentato nel Tel Aviv Jazz Festival & Eilat Jazz Festival nel 2013 e 2014; Last Of Songs è adesso al debutto internazionale e verrà presentato a festival in tutto il mondo nella stagione invernale prossima.Ma ancora una volta è la Sicilia a tenere a battesimo un’altra grande artista e un’altra band strepitosa. \nFORMAZIONE : \nIRIT DEKEL voce\nELDAD ZITRIN tastiere\,chitarra\,\,accordeon\nADI HARTZVI contrabasso\nELAD COHEN BONEN batteria\,percussioni\nIDAN ARMONI chitarra\,basso elettrico
URL:https://www.cataniajazz.com/concerto-jazz-a-catania/adam-ben-ezra-solo-irit-dekel-eldan-zitrin-quintet/
LOCATION:Castello Normanno\, Paternò
CATEGORIES:Catania Jazz Estate,Programma
ATTACH;FMTTYPE=image/jpeg:https://www.cataniajazz.com/wp-content/uploads/foto28.jpg
END:VEVENT
BEGIN:VEVENT
DTSTART;TZID=UTC:20140727T213000
DTEND;TZID=UTC:20140727T230000
DTSTAMP:20260424T155339
CREATED:20140617T183159Z
LAST-MODIFIED:20141019T165922Z
UID:1428-1406496600-1406502000@www.cataniajazz.com
SUMMARY:Leny Andrade Quartet
DESCRIPTION:Presentazione\nDefinita da Tony Bennett l’Ella Fitgerald brasiliana\, Leny Andrade è considerata da molti come una delle più grandi cantanti di jazz brasiliano.Lo stile eclettico di Leny Andrade è una sintesi di samba e jazz. Ha avuto diversi successi nelle classifiche brasiliane. Nel 2007 ha condiviso un Latin Grammy Award con Cesar Camargo Mariano per la migliore MPB (Musica Popular Brasileira) con l’album\, Ao Vivo. \n \nLeny Andrade ha suonato con Charlie Byrd\, Herbie Mann\, Toots Thielemans\, Eumir Deodato\, Paquito D’Rivera\, Luiz Eca\, Dick Farney\, Joao Donato\, Pery Ribeiro e Francis Hime. Ha lavorato molto in Europa\, si può dire in tutti i club specializzati di musica brasiliana e del Jazz. Ciò ha comportato la registrazione di un album Embraceable You nel luglio 1991 a Volendam\, nei Paesi Bassi. L’autorevole pubblicazione statunitense Village Voice dichiarò il suo album Maiden Voyage prodotto nel 1994 il miglior album jazz dell’anno. Nel 2007\, il suo album Ao Vivo registrato con il pianista Cesar Camargo Mariano ha vinto un Grammy Award dell’America Latina. Il critico Stephen Holden del New York Times ha scritto della performance di Andrade al Birdland il 27 agosto 2008\, “Per descrivere la signora Andrade dobbiamo pensare a voci come Sarah Vaughan e Ella Fitzgerald alle prese con la bossa nova\, ad un’artista la cui voce sembra contenere il corpo e l’anima del Brasile”. Leny Andrade ha pubblicato nel 2014 l’album “Iluminados”\, con brani dalla prestigiosa partnership fra i compositori Ivan Lins e Vitor Martins\, che hanno creato numerosi successi della musica popolare brasiliana negli anni ’80. LENY ANDRADE AND TRIO 27 luglio 2014 – ore 21.30 – PATERNO’ ROCCANORMANNA 29 luglio 2014 – ore 21.30 – CASTELLAMMARE DEL GOLFO  Formazione LENY ANDRADE – voce JOAO CARLOS COUTINHO – piano JAMIL JOANES – contrabasso ERIVELTON SILVA batteria
URL:https://www.cataniajazz.com/concerto-jazz-a-catania/leny-andrade-quartet/
LOCATION:Castello Normanno\, Paternò
CATEGORIES:Catania Jazz Estate
ATTACH;FMTTYPE=image/jpeg:https://www.cataniajazz.com/wp-content/uploads/leny.jpg
END:VEVENT
END:VCALENDAR