BEGIN:VCALENDAR
VERSION:2.0
PRODID:-//Catania Jazz - ECPv6.9.0//NONSGML v1.0//EN
CALSCALE:GREGORIAN
METHOD:PUBLISH
X-ORIGINAL-URL:https://www.cataniajazz.com
X-WR-CALDESC:Eventi per Catania Jazz
REFRESH-INTERVAL;VALUE=DURATION:PT1H
X-Robots-Tag:noindex
X-PUBLISHED-TTL:PT1H
BEGIN:VTIMEZONE
TZID:UTC
BEGIN:STANDARD
TZOFFSETFROM:+0000
TZOFFSETTO:+0000
TZNAME:UTC
DTSTART:20260101T000000
END:STANDARD
END:VTIMEZONE
BEGIN:VEVENT
DTSTART;TZID=UTC:20260428T210000
DTEND;TZID=UTC:20260428T210000
DTSTAMP:20260422T225534
CREATED:20250819T080231Z
LAST-MODIFIED:20251013T163349Z
UID:2796-1777410000-1777410000@www.cataniajazz.com
SUMMARY:CETTINA DONATO QUARTET "Omaggio a Moravia"
DESCRIPTION:Pianista\, direttrice d’orchestra e compositrice\, Cettina Donato è una delle figure più versatili e apprezzate del jazz italiano contemporaneo. La sua musica unisce eleganza melodica e forza narrativa\, con uno stile che intreccia tradizione e ricerca personale. Con il suo quartetto ha portato nei teatri italiani e internazionali progetti che raccontano il suo talento come interprete e come autrice. \nCon “Omaggio a Moravia”\, la Donato propone un viaggio musicale ispirato all’opera e al pensiero di Alberto Moravia\, trasformando suggestioni letterarie in suono. Jazz\, scrittura originale e improvvisazione si fondono in un percorso che mette in dialogo parole e musica\, offrendo al pubblico nuove chiavi di ascolto e riflessione. Accanto a lei\, il quartetto riunisce musicisti di grande sensibilità e affinità artistica\, capaci di dare forma a un progetto unico nel suo genere. \nUn concerto che unisce letteratura e musica\, celebrando il jazz come linguaggio universale di racconto e di emozione.
URL:https://www.cataniajazz.com/concerto-jazz-a-catania/cettina-donato-quartet-omaggio-a-moravia/
LOCATION:Teatro Metropolitan\, Via Sant'Euplio\, 21\, Catania\, Italia
CATEGORIES:Programma,XLII Stagione
ATTACH;FMTTYPE=image/jpeg:https://www.cataniajazz.com/wp-content/uploads/CETTINA-DONATO-QUARTET-_Omaggio-a-Moravia_2.jpg
END:VEVENT
END:VCALENDAR